BEGIN:VCALENDAR
VERSION:2.0
PRODID:-//Eventin//Event Calendar//EN
CALSCALE:GREGORIAN
METHOD:PUBLISH
BEGIN:VEVENT
UID:c0a6a8a56432d70f019bf52064e65265@stltma.org
SUMMARY:STLTMA - June 2026 Monthly Meeting (Guests)
DESCRIPTION:"Demand for Skilled Talent"\n\n\nGeorge C. Kobitz\, Jr.SVP/Prac
 tice DirectorRobert Half Management Resources\n \n\n12:00-12:30 PM Lunch12
 :30-1:30 PM Meeting\nRegistration begins 05/22/26\n\n\n   Pending approv
 al for 1.2 CTP/CCM/FPAC recertification creditsby the Association for Finan
 cial Professionals.
LOCATION:TBD
DTSTAMP:20260421T122835Z
DTSTART:20260618T170000Z
DTEND:20260618T183000Z
END:VEVENT
END:VCALENDAR
