BEGIN:VCALENDAR
VERSION:2.0
PRODID:-//Eventin//Event Calendar//EN
CALSCALE:GREGORIAN
METHOD:PUBLISH
BEGIN:VEVENT
UID:8f489b7402574af2e13b7d2e8bc5f2bc@stltma.org
SUMMARY:STLTMA - May 2026 Monthly Meeting (Guests)
DESCRIPTION:The Cooperative Model in Business – Understanding Structure\,
  Governance\, and Scale\nMegan LovellSenior Treasury Services Relationship 
 ManagerCommunityAmerica Credit Union\nHerbies8100 Maryland AvenueClayton\, 
 MO 63105\n12:00-12:30 PM Lunch12:30-1:30 PM Meeting\nRegistration begins 0
 4/17/26\n  \nPending approval for 1.2 CTP/CCM/FP&A recertification credits
 by the Association for Financial Professionals.\n \n 
LOCATION:Herbies
DTSTAMP:20260421T122033Z
DTSTART:20260521T170000Z
DTEND:20260521T183000Z
END:VEVENT
END:VCALENDAR
